Felt | Verdi |
AlreadyApplied | True |
Aperture | 8.0 |
ApertureValue | 8.0 |
ApproximateFocusDistance | 7.06 |
Artist | Geir Manshaus |
AutoLateralCA | 0 |
BitsPerSample | 8 |
Blacks2012 | 0 |
BlueHue | 0 |
BlueSaturation | 0 |
Brightness | +50 |
By-line | Geir Manshaus |
CameraProfile | Adobe Standard |
CircleOfConfusion | 0.031 mm |
Clarity | 0 |
Clarity2012 | +41 |
ColorComponents | 3 |
ColorNoiseReduction | 25 |
ColorNoiseReductionDetail | 50 |
ColorTemperature | 5350 |
Contrast | +25 |
Contrast2012 | -35 |
ConvertToGrayscale | False |
Copyright | Geir Manshaus |
CopyrightFlag | True |
CopyrightNotice | Geir Manshaus |
CreateDate (1) | 2012:04:06 14:29:47.00 |
CreateDate | 2012:04:06 14:29:47 |
Creator | Geir Manshaus |
CreatorAddress | Sons Gate 25 |
CreatorCountry | Norge |
CreatorPostalCode | 0654 |
CreatorRegion | Oslo |
CreatorTool | Adobe Photoshop Lightroom 4.0 (Windows) |
CreatorWorkEmail | geirhandyman@hotmail.com |
CreatorWorkTelephone | 004797682988 |
CropAngle | 0 |
CropBottom | 1 |
CropConstrainToWarp | 0 |
CropHeight | 792 |
CropLeft | 0.061192 |
CropRight | 1 |
CropTop | 0.070048 |
CropUnit | pixels |
CropWidth | 1200 |
CustomRendered | Normal |
DateCreated (1) | 2012:04:06 |
DateCreated | 2012:04:06 14:29:47.00 |
DateTimeOriginal | 2012:04:06 14:29:47 |
Defringe | 0 |
DOF | 0.40 m (6.87 - 7.26 m) |
Exposure | 0.00 |
Exposure2012 | 0.00 |
ExposureCompensation | 0 |
ExposureMode | Manual |
ExposureProgram | Manual |
ExposureTime | 1/1000 |
FillLight | 0 |
Firmware | 2.1.1 |
Flash | Off, Did not fire |
FlashCompensation | 0 |
FNumber | 8.0 |
FocalLength | 245.0 mm |
FocalLength35efl | 245.0 mm (35 mm equivalent: 239.1 mm) |
Format | image/jpeg |
FOV | 8.6 deg |
GrainAmount | 0 |
GreenHue | 0 |
GreenSaturation | 0 |
HasCrop | True |
HasSettings | True |
HighlightRecovery | 0 |
Highlights2012 | 0 |
HueAdjustmentAqua | 0 |
HueAdjustmentBlue | 0 |
HueAdjustmentGreen | 0 |
HueAdjustmentMagenta | 0 |
HueAdjustmentOrange | 0 |
HueAdjustmentPurple | 0 |
HueAdjustmentRed | 0 |
HueAdjustmentYellow | 0 |
HyperfocalDistance | 243.71 m |
ImageHeight | 792 |
ImageNumber | 0 |
ImageSize | 1200x792 |
ImageWidth | 1200 |
ISO | 400 |
Lens | EF70-200mm f/2.8L IS II USM +2.0x |
LensID (1) | 253 |
LensID | Canon EF 70-200mm f/2.8L IS II USM + 2x |
LensInfo | 140-400mm f/? |
LensManualDistortionAmount | 0 |
LensModel | EF70-200mm f/2.8L IS II USM +2.0x |
LensProfileEnable | 0 |
LensProfileSetup | LensDefaults |
LightValue | 14.0 |
LuminanceAdjustmentAqua | 0 |
LuminanceAdjustmentBlue | 0 |
LuminanceAdjustmentGreen | 0 |
LuminanceAdjustmentMagenta | 0 |
LuminanceAdjustmentOrange | 0 |
LuminanceAdjustmentPurple | 0 |
LuminanceAdjustmentRed | 0 |
LuminanceAdjustmentYellow | 0 |
LuminanceNoiseReductionContrast | 27 |
LuminanceNoiseReductionDetail | 50 |
LuminanceSmoothing | 25 |
Make | Canon |
Marked | True |
MaxApertureValue | 5.7 |
Megapixels | 0.950 |
MeteringMode | Spot |
Model | Canon EOS 5D Mark II |
ModifyDate (1) | 2012:04:07 18:00:34+02:00 |
ModifyDate | 2012:04:07 18:00:34 |
OwnerName | Geir Manshaus |
ParametricDarks | -1 |
ParametricHighlights | +56 |
ParametricHighlightSplit | 75 |
ParametricLights | -13 |
ParametricMidtoneSplit | 50 |
ParametricShadows | +1 |
ParametricShadowSplit | 25 |
PerspectiveHorizontal | 0 |
PerspectiveRotate | 0.0 |
PerspectiveScale | 100 |
PerspectiveVertical | 0 |
PostCropVignetteAmount | 0 |
ProcessVersion | 6.7 |
ProfileDescription | sRGB IEC61966-2.1 |
RedHue | 0 |
RedSaturation | 0 |
Rights | Geir Manshaus |
Saturation | 0 |
SaturationAdjustmentAqua | 0 |
SaturationAdjustmentBlue | +20 |
SaturationAdjustmentGreen | 0 |
SaturationAdjustmentMagenta | 0 |
SaturationAdjustmentOrange | +53 |
SaturationAdjustmentPurple | 0 |
SaturationAdjustmentRed | 0 |
SaturationAdjustmentYellow | 0 |
ScaleFactor35efl | 1.0 |
SceneCaptureType | Standard |
SerialNumber | 230109326 |
Shadows | 5 |
Shadows2012 | 0 |
ShadowTint | 0 |
SharpenDetail | 25 |
SharpenEdgeMasking | 42 |
SharpenRadius | +1.7 |
Sharpness | 85 |
ShutterSpeed | 1/1000 |
ShutterSpeedValue | 1/1000 |
Software | Adobe Photoshop Lightroom 4.0 (Windows) |
SplitToningBalance | 0 |
SplitToningHighlightHue | 0 |
SplitToningHighlightSaturation | 0 |
SplitToningShadowHue | 0 |
SplitToningShadowSaturation | 0 |
Tint | -1 |
ToneCurve | 0, 0, 255, 255 |
ToneCurveBlue | 0, 0, 255, 255 |
ToneCurveGreen | 0, 0, 255, 255 |
ToneCurveName | Linear |
ToneCurveName2012 | Linear |
ToneCurvePV2012 | 0, 0, 255, 255 |
ToneCurvePV2012Blue | 0, 0, 255, 255 |
ToneCurvePV2012Green | 0, 0, 255, 255 |
ToneCurvePV2012Red | 0, 0, 255, 255 |
ToneCurveRed | 0, 0, 255, 255 |
Version | 7.0 |
Vibrance | +23 |
VignetteAmount | 0 |
WhiteBalance (1) | As Shot |
WhiteBalance | Auto |
Whites2012 | -5 |