Felt | Verdi |
AlreadyApplied | True |
Aperture | 2.8 |
ApertureValue | 2.8 |
BitsPerSample | 8 |
BlueHue | -8 |
BlueSaturation | +21 |
Brightness | +50 |
CameraProfile | Adobe Standard |
ChromaticAberrationB | 0 |
ChromaticAberrationR | 0 |
CircleOfConfusion | 0.031 mm |
Clarity | 0 |
ColorComponents | 3 |
ColorMode | RGB |
ColorNoiseReduction | 25 |
ColorNoiseReductionDetail | 50 |
ColorSpace | Uncalibrated |
ColorTemperature | 5400 |
Contrast | +38 |
ConvertToGrayscale | False |
CreateDate (1) | 2011:09:16 15:59:34.42+02:00 |
CreateDate | 2011:09:16 15:59:34 |
CreatorTool | Adobe Photoshop CS5 Windows |
CropAngle | 0 |
CropBottom | 0.895811 |
CropLeft | 0 |
CropRight | 1 |
CropTop | 0.255639 |
CustomRendered | Normal |
DateCreated (1) | 2011:09:16 |
DateCreated | 2011:09:16 15:59:34.042 |
DateTimeOriginal | 2011:09:16 15:59:34 |
Defringe | 0 |
ExifImageHeight | 427 |
ExifImageWidth | 1000 |
Exposure | 0.00 |
ExposureCompensation | +1 |
ExposureMode | Auto |
ExposureProgram | Aperture-priority AE |
ExposureTime | 1/3200 |
FillLight | 6 |
Firmware | 2.0.8 |
Flash | Off, Did not fire |
FlashCompensation | 0 |
FNumber | 2.8 |
FocalLength | 45.0 mm |
FocalLength35efl | 45.0 mm (35 mm equivalent: 43.9 mm) |
Format | image/jpeg |
FOV | 44.6 deg |
GradientBasedCorrActive | true |
GradientBasedCorrAmount | 1.000000 |
GradientBasedCorrBrightness | 0.000000 |
GradientBasedCorrClarity | 0.000000 |
GradientBasedCorrContrast | 0.000000 |
GradientBasedCorrExposure (1) | -0.187500 |
GradientBasedCorrExposure (2) | -0.475000 |
GradientBasedCorrExposure (3) | -0.062500 |
GradientBasedCorrExposure | -0.125000 |
GradientBasedCorrHue | 218.000000 |
GradientBasedCorrMaskFullX (1) | 0.483170 |
GradientBasedCorrMaskFullX (2) | 0.461431 |
GradientBasedCorrMaskFullX (3) | 0.558205 |
GradientBasedCorrMaskFullX | 0.514025 |
GradientBasedCorrMaskFullY (1) | 0.024177 |
GradientBasedCorrMaskFullY (2) | 0.231430 |
GradientBasedCorrMaskFullY (3) | 0.239840 |
GradientBasedCorrMaskFullY | 0.203045 |
GradientBasedCorrMaskValue | 1.000000 |
GradientBasedCorrMaskWhat | Mask/Gradient |
GradientBasedCorrMaskZeroX (1) | 0.484572 |
GradientBasedCorrMaskZeroX (2) | 0.459327 |
GradientBasedCorrMaskZeroX (3) | 0.557504 |
GradientBasedCorrMaskZeroX | 0.509116 |
GradientBasedCorrMaskZeroY (1) | 0.482612 |
GradientBasedCorrMaskZeroY (2) | 0.546811 |
GradientBasedCorrMaskZeroY (3) | 0.506863 |
GradientBasedCorrMaskZeroY | 0.596221 |
GradientBasedCorrSaturation (1) | -0.770000 |
GradientBasedCorrSaturation (3) | -0.580000 |
GradientBasedCorrSaturation (5) | -0.330000 |
GradientBasedCorrSaturation (7) | -0.290000 |
GradientBasedCorrSaturation | 0.000000 |
GradientBasedCorrSharpness | 0.000000 |
GradientBasedCorrWhat | Correction |
GrainAmount | 0 |
GreenHue | -16 |
GreenSaturation | 0 |
HasCrop | True |
HasSettings | True |
HighlightRecovery | 0 |
HueAdjustmentAqua | 0 |
HueAdjustmentBlue | 0 |
HueAdjustmentGreen | 0 |
HueAdjustmentMagenta | 0 |
HueAdjustmentOrange | 0 |
HueAdjustmentPurple | 0 |
HueAdjustmentRed | 0 |
HueAdjustmentYellow | 0 |
HyperfocalDistance | 23.49 m |
ICCProfileName | Adobe RGB (1998) |
ImageHeight | 427 |
ImageNumber | 0 |
ImageSize | 1000x427 |
ImageWidth | 1000 |
ISO | 200 |
Lens | TS-E45mm f/2.8 |
LensID (1) | 126 |
LensID | Canon TS-E 45mm f/2.8 |
LensInfo | 45mm f/? |
LightValue | 13.6 |
LuminanceAdjustmentAqua | 0 |
LuminanceAdjustmentBlue | +1 |
LuminanceAdjustmentGreen | 0 |
LuminanceAdjustmentMagenta | 0 |
LuminanceAdjustmentOrange | +4 |
LuminanceAdjustmentPurple | 0 |
LuminanceAdjustmentRed | 0 |
LuminanceAdjustmentYellow | +22 |
LuminanceSmoothing | 0 |
Make | Canon |
MaxApertureValue | 2.8 |
Megapixels | 0.427 |
MeteringMode | Multi-segment |
Model | Canon EOS 5D Mark II |
ModifyDate (1) | 2011:09:23 14:32:49+02:00 |
ModifyDate | 2011:09:23 14:32:49 |
Orientation | Horizontal (normal) |
PaintCorrectionActive | true |
PaintCorrectionAmount | 1.000000 |
PaintCorrectionBrightness | 0.000000 |
PaintCorrectionClarity | 0.000000 |
PaintCorrectionContrast (11) | 0.150000 |
PaintCorrectionContrast | 0.000000 |
PaintCorrectionExposure (1) | -0.137500 |
PaintCorrectionExposure (11) | 0.050000 |
PaintCorrectionExposure (2) | 0.100000 |
PaintCorrectionExposure (4) | -0.100000 |
PaintCorrectionExposure (6) | -0.162500 |
PaintCorrectionExposure (7) | -0.125000 |
PaintCorrectionExposure (9) | 0.062500 |
PaintCorrectionExposure | 0.000000 |
PaintCorrectionHue | 218.000000 |
PaintCorrectionMaskCenterWeight (2) | 1.000000 |
PaintCorrectionMaskCenterWeight | 0.000000 |
PaintCorrectionMaskFlow | 0.888889 |
PaintCorrectionMaskRadius (1) | 0.280434 |
PaintCorrectionMaskRadius (13) | 0.119560 |
PaintCorrectionMaskRadius (14) | 0.186591 |
PaintCorrectionMaskRadius (17) | 0.092748 |
PaintCorrectionMaskRadius (2) | 0.173016 |
PaintCorrectionMaskRadius (22) | 0.535151 |
PaintCorrectionMaskRadius (23) | 0.045826 |
PaintCorrectionMaskRadius | 0.293840 |
PaintCorrectionMaskValue (2) | 0.000000 |
PaintCorrectionMaskValue | 1.000000 |
PaintCorrectionMaskWhat | Mask/Paint |
PaintCorrectionSaturation (19) | -0.230000 |
PaintCorrectionSaturation (23) | -0.200000 |
PaintCorrectionSaturation (5) | -0.210000 |
PaintCorrectionSaturation | 0.000000 |
PaintCorrectionSharpness | 0.000000 |
PaintCorrectionWhat | Correction |
ParametricDarks | +3 |
ParametricHighlights | 0 |
ParametricHighlightSplit | 75 |
ParametricLights | +28 |
ParametricMidtoneSplit | 50 |
ParametricShadows | 0 |
ParametricShadowSplit | 25 |
PostCropVignetteAmount | 0 |
ProcessVersion | 5.7 |
ProfileDescription | Adobe RGB (1998) |
Rating | 0 |
RawFileName | IMG_6108.CR2 |
RedHue | +3 |
RedSaturation | -3 |
Saturation | 0 |
SaturationAdjustmentAqua | -18 |
SaturationAdjustmentBlue | -30 |
SaturationAdjustmentGreen | -53 |
SaturationAdjustmentMagenta | 0 |
SaturationAdjustmentOrange | 0 |
SaturationAdjustmentPurple | 0 |
SaturationAdjustmentRed | 0 |
SaturationAdjustmentYellow | 0 |
ScaleFactor35efl | 1.0 |
SceneCaptureType | Standard |
SerialNumber | 130101598 |
Shadows | 10 |
ShadowTint | -7 |
SharpenDetail | 25 |
SharpenEdgeMasking | 0 |
SharpenRadius | +1.0 |
Sharpness | 25 |
ShutterSpeed | 1/3200 |
ShutterSpeedValue | 1/3200 |
SidecarForExtension | CR2 |
Software | Adobe Photoshop CS5 Windows |
SplitToningBalance | 0 |
SplitToningHighlightHue | 39 |
SplitToningHighlightSaturation | 3 |
SplitToningShadowHue | 210 |
SplitToningShadowSaturation | 16 |
Tint | -17 |
ToneCurve | 0, 0, 32, 22, 64, 56, 128, 128, 192, 196, 255, 255 |
ToneCurveName | Medium Contrast |
URL_List | |
Version | 6.0 |
Vibrance | 0 |
VignetteAmount | 0 |
WhiteBalance (1) | Custom |
WhiteBalance | Auto |