Felt | Verdi |
AlreadyApplied | True |
Aperture | 8.0 |
ApertureValue | 8.0 |
BitsPerSample | 8 |
BlueHue | 0 |
BlueSaturation | 0 |
Brightness | +50 |
CameraProfile | Adobe Standard |
ChromaticAberrationB | 0 |
ChromaticAberrationR | 0 |
CircleOfConfusion | 0.019 mm |
Clarity | +10 |
ColorComponents | 3 |
ColorMode | RGB |
ColorNoiseReduction | 25 |
ColorNoiseReductionDetail | 50 |
ColorSpace | Uncalibrated |
ColorTemperature | 5400 |
Contrast | +39 |
ConvertToGrayscale | False |
CreateDate (1) | 2011:05:10 18:37:56.83+02:00 |
CreateDate | 2011:05:10 18:37:56 |
CropAngle | 0 |
CropBottom | 0.899824 |
CropLeft | 0 |
CropRight | 0.946073 |
CropTop | 0 |
CustomRendered | Normal |
DateCreated (1) | 2011:05:10 |
DateCreated | 2011:05:10 18:37:56.083 |
DateTimeOriginal | 2011:05:10 18:37:56 |
Defringe | 0 |
DOF | 0.002 m (0.309 - 0.311 m) |
ExifImageHeight | 2851 |
ExifImageWidth | 4496 |
Exposure | -0.20 |
ExposureCompensation | 0 |
ExposureMode | Manual |
ExposureProgram | Manual |
ExposureTime | 1/200 |
FillLight | 20 |
Firmware | 1.1.0 |
Flash | On, Fired |
FlashCompensation | 0 |
FNumber | 8.0 |
FocalLength | 100.0 mm |
FocalLength35efl | 100.0 mm (35 mm equivalent: 158.8 mm) |
Format | image/jpeg |
FOV | 12.9 deg |
GrainAmount | 0 |
GreenHue | 0 |
GreenSaturation | 0 |
HasCrop | True |
HasSettings | True |
HighlightRecovery | 50 |
HueAdjustmentAqua | 0 |
HueAdjustmentBlue | 0 |
HueAdjustmentGreen | 0 |
HueAdjustmentMagenta | 0 |
HueAdjustmentOrange | 0 |
HueAdjustmentPurple | 0 |
HueAdjustmentRed | 0 |
HueAdjustmentYellow | 0 |
HyperfocalDistance | 66.06 m |
ICCProfileName | Adobe RGB (1998) |
ImageHeight | 2851 |
ImageNumber | 0 |
ImageSize | 4496x2851 |
ImageWidth | 4496 |
ISO | 200 |
Lens | EF100mm f/2.8 Macro USM |
LensID (1) | 190 |
LensID | Canon EF 100mm f/2.8 Macro USM |
LensInfo | 100mm f/? |
LightValue | 12.6 |
LuminanceAdjustmentAqua | 0 |
LuminanceAdjustmentBlue | 0 |
LuminanceAdjustmentGreen | 0 |
LuminanceAdjustmentMagenta | 0 |
LuminanceAdjustmentOrange | 0 |
LuminanceAdjustmentPurple | 0 |
LuminanceAdjustmentRed | 0 |
LuminanceAdjustmentYellow | 0 |
LuminanceNoiseReductionContrast | 0 |
LuminanceNoiseReductionDetail | 50 |
LuminanceSmoothing | 30 |
Make | Canon |
MaxApertureValue | 2.8 |
Megapixels | 12.8 |
MeteringMode | Multi-segment |
Model | Canon EOS 500D |
ModifyDate (1) | 2011:05:10 20:11:06+02:00 |
ModifyDate | 2011:05:10 20:11:06 |
Orientation | Horizontal (normal) |
PaintCorrectionActive | true |
PaintCorrectionAmount | 1.000000 |
PaintCorrectionBrightness (2) | -0.050000 |
PaintCorrectionBrightness | 0.000000 |
PaintCorrectionClarity | 0.000000 |
PaintCorrectionContrast | 0.000000 |
PaintCorrectionExposure (1) | -0.087500 |
PaintCorrectionExposure (2) | -0.137500 |
PaintCorrectionExposure | 0.000000 |
PaintCorrectionHue | 0.000000 |
PaintCorrectionMaskCenterWeight | 0.075854 |
PaintCorrectionMaskFlow | 0.888889 |
PaintCorrectionMaskRadius (1) | 0.245588 |
PaintCorrectionMaskRadius | 0.026794 |
PaintCorrectionMaskValue | 1.000000 |
PaintCorrectionMaskWhat | Mask/Paint |
PaintCorrectionSaturation (3) | 0.100000 |
PaintCorrectionSaturation | 0.000000 |
PaintCorrectionSharpness (1) | 0.000000 |
PaintCorrectionSharpness | 0.150000 |
PaintCorrectionWhat | Correction |
ParametricDarks | -5 |
ParametricHighlights | +21 |
ParametricHighlightSplit | 75 |
ParametricLights | +10 |
ParametricMidtoneSplit | 50 |
ParametricShadows | -15 |
ParametricShadowSplit | 25 |
PostCropVignetteAmount | 0 |
ProcessVersion | 5.7 |
ProfileDescription | Adobe RGB (1998) |
Rating | 0 |
RawFileName | IMG_1873.CR2 |
RedHue | 0 |
RedSaturation | 0 |
Saturation | +8 |
SaturationAdjustmentAqua | 0 |
SaturationAdjustmentBlue | 0 |
SaturationAdjustmentGreen | 0 |
SaturationAdjustmentMagenta | 0 |
SaturationAdjustmentOrange | 0 |
SaturationAdjustmentPurple | 0 |
SaturationAdjustmentRed | 0 |
SaturationAdjustmentYellow | 0 |
ScaleFactor35efl | 1.6 |
SceneCaptureType | Standard |
SerialNumber | 1850726213 |
Shadows | 5 |
ShadowTint | 0 |
SharpenDetail | 10 |
SharpenEdgeMasking | 0 |
SharpenRadius | +2.0 |
Sharpness | 85 |
ShutterSpeed | 1/200 |
ShutterSpeedValue | 1/200 |
SidecarForExtension | CR2 |
Software | Adobe Photoshop CS5 Windows |
SplitToningBalance | 0 |
SplitToningHighlightHue | 0 |
SplitToningHighlightSaturation | 0 |
SplitToningShadowHue | 0 |
SplitToningShadowSaturation | 0 |
SubjectDistance | 0.31 m |
Tint | -8 |
ToneCurve | 0, 0, 32, 22, 64, 56, 128, 128, 192, 196, 255, 255 |
ToneCurveName | Medium Contrast |
URL_List | |
Version | 6.0 |
Vibrance | 0 |
VignetteAmount | -74 |
VignetteMidpoint | 30 |
WhiteBalance (1) | Custom |
WhiteBalance | Auto |