Felt | Verdi |
AlreadyApplied | True |
Aperture | 3.4 |
ApertureValue | 3.4 |
ApproximateFNumber | 3.5 |
Artist | Paul Guanio-Uluru |
BaseISO | 160 |
BitsPerSample | 8 |
BlueBalance | 0.484633 |
BlueHue | 0 |
BlueSaturation | 0 |
Brightness | +50 |
By-line | Paul Guanio-Uluru |
CameraProfile | Adobe Standard |
CameraTemperature | 12 C |
ChromaticAberrationB | 0 |
ChromaticAberrationR | 0 |
CircleOfConfusion | 0.030 mm |
Clarity | 0 |
ColorComponents | 3 |
ColorNoiseReduction | 25 |
ColorSpace | Uncalibrated |
ColorTemperature | 2750 |
Contrast (1) | +29 |
Contrast | Normal |
ConvertToGrayscale | False |
Copyright | Paul Guanio-Uluru |
CopyrightNotice | Paul Guanio-Uluru |
CreateDate (1) | 2011:02:01 17:16:00+01:00 |
CreateDate | 2011:02:01 17:16:00 |
Creator | Paul Guanio-Uluru |
CreatorTool | 1.138 |
DateTimeDigitized | 2011:02:01 17:16:00+01:00 |
DateTimeOriginal (1) | 2011:02:01 17:16:00+01:00 |
DateTimeOriginal | 2011:02:01 17:16:00 |
Defringe | 0 |
DigitalZoomRatio | 0 |
ExifImageHeight (1) | 3468 |
ExifImageHeight | 681 |
ExifImageWidth (1) | 5212 |
ExifImageWidth | 1024 |
Exposure | -0.15 |
ExposureCompensation (1) | -0.664 |
ExposureCompensation | +Inf |
ExposureMode | Manual |
ExposureProgram | Aperture-priority AE |
ExposureTime | 1/45 |
ExternalSensorBrightnessValue | 0.27 |
FillLight | 13 |
FirmwareVersion | 1.138 |
Flash | No Flash |
FlashFired | False |
FlashFunction | False |
FlashMode | Unknown |
FlashRedEyeMode | False |
FlashReturn | No return detection |
FNumber | 3.4 |
FocalLength | 28.0 mm |
FocalLength35efl | 28.0 mm (35 mm equivalent: 28.0 mm) |
FocalLengthIn35mmFormat | 28 mm |
FOV | 65.5 deg |
GrainAmount | 0 |
GreenHue | 0 |
GreenSaturation | 0 |
HasCrop | False |
HasSettings | True |
HighlightRecovery | 0 |
HueAdjustmentAqua | 0 |
HueAdjustmentBlue | 0 |
HueAdjustmentGreen | 0 |
HueAdjustmentMagenta | 0 |
HueAdjustmentOrange | 0 |
HueAdjustmentPurple | 0 |
HueAdjustmentRed | 0 |
HueAdjustmentYellow | 0 |
HyperfocalDistance | 7.67 m |
ImageHeight (1) | 3468 |
ImageHeight | 681 |
ImageSize | 1024x681 |
ImageWidth (1) | 5212 |
ImageWidth | 1024 |
ISO | 800 |
JPEGQuality | Fine |
JPEGSize | 5216x3472 |
Lens | Leica Summicron-M 28mm f/2 ASPH. |
LensID (1) | 26 |
LensID | Summicron-M 28mm f/2 ASPH. |
LensType | Summicron-M 28mm f/2 ASPH. |
LightSource | Unknown |
LightValue | 6.0 |
LuminanceAdjustmentAqua | 0 |
LuminanceAdjustmentBlue | 0 |
LuminanceAdjustmentGreen | 0 |
LuminanceAdjustmentMagenta | 0 |
LuminanceAdjustmentOrange | 0 |
LuminanceAdjustmentPurple | 0 |
LuminanceAdjustmentRed | 0 |
LuminanceAdjustmentYellow | 0 |
LuminanceSmoothing | 0 |
Make | Leica Camera AG |
MakerNoteSafety | Safe |
MaxApertureValue | 2.0 |
MeasuredLV | 1.05 |
Megapixels | 0.697 |
MeteringMode | Center-weighted average |
Model | M9 Digital Camera |
ModifyDate (1) | 2011:02:01 20:50:43+01:00 |
ModifyDate | 2011:02:01 20:02:1828716544 |
Orientation | Horizontal (normal) |
ParametricDarks | 0 |
ParametricHighlights | 0 |
ParametricHighlightSplit | 75 |
ParametricLights | 0 |
ParametricMidtoneSplit | 50 |
ParametricShadows | 0 |
ParametricShadowSplit | 25 |
PostCropVignetteAmount | 0 |
ProcessVersion | 5.0 |
ProfileDescription | sRGB IEC61966-2.1 |
Rating | 0 |
RawFileName | L1005115.DNG |
RedBalance | 0.630372 |
RedHue | 0 |
RedSaturation | 0 |
Rights | Paul Guanio-Uluru |
Saturation (1) | 0 |
Saturation | Normal |
SaturationAdjustmentAqua | 0 |
SaturationAdjustmentBlue | 0 |
SaturationAdjustmentGreen | 0 |
SaturationAdjustmentMagenta | 0 |
SaturationAdjustmentOrange | 0 |
SaturationAdjustmentPurple | 0 |
SaturationAdjustmentRed | 0 |
SaturationAdjustmentYellow | 0 |
ScaleFactor35efl | 1.0 |
SceneCaptureType | Standard |
SceneType | Directly photographed |
SensorBitDepth | 14 |
SensorHeight | 3516 |
SensorWidth | 5270 |
SerialNumber | 3841659 |
Shadows | 5 |
ShadowTint | 0 |
SharpenDetail | 25 |
SharpenEdgeMasking | 0 |
Sharpening | Normal |
SharpenRadius | +1.0 |
Sharpness | 70 |
ShutterSpeed | 1/45 |
ShutterSpeedValue (1) | 1/45 |
ShutterSpeedValue | 1.7 |
Software | Capture NX 2.2.6 M |
SplitToningBalance | 0 |
SplitToningHighlightHue | 0 |
SplitToningHighlightSaturation | 0 |
SplitToningShadowHue | 0 |
SplitToningShadowSaturation | 0 |
Tint | +23 |
ToneCurve | 0, 0, 32, 22, 64, 56, 128, 128, 192, 196, 255, 255 |
ToneCurveName | Medium Contrast |
UserProfile | Default |
Version | 5.7 |
Vibrance | 0 |
VignetteAmount | 0 |
WB_RGBLevels | 0.6303720519 1 0.48463336 |
WhiteBalance (3) | Custom |
WhiteBalance | Auto |