Felt | Verdi |
AlreadyApplied | True |
Aperture | 6.3 |
ApertureValue | 6.3 |
Artist | unknown |
BitsPerSample | 8 |
BlueHue | 0 |
BlueSaturation | 0 |
Brightness | +50 |
By-line | unknown |
CameraProfile | Adobe Standard |
ChromaticAberrationB | 0 |
ChromaticAberrationR | 0 |
CircleOfConfusion | 0.019 mm |
Clarity | 0 |
ColorComponents | 1 |
ColorMode | Grayscale |
ColorNoiseReduction | 25 |
ColorSpace | Uncalibrated |
ColorTemperature | 5150 |
Contrast | +100 |
ConvertToGrayscale | True |
CreateDate (1) | 2010:02:05 15:50:43+01:00 |
CreateDate | 2010:02:05 15:50:43 |
Creator | unknown |
CropAngle | 0 |
CropBottom | 0.908231 |
CropLeft | 0.037831 |
CropRight | 0.993064 |
CropTop | 0.438978 |
CustomRendered | Normal |
DateTimeDigitized | 2010:02:05 15:50:43+01:00 |
DateTimeOriginal (1) | 2010:02:05 15:50:43+01:00 |
DateTimeOriginal | 2010:02:05 15:50:43 |
Defringe | 0 |
ExifImageHeight | 1216 |
ExifImageWidth | 3714 |
Exposure | +0.65 |
ExposureCompensation | 0 |
ExposureMode | Manual |
ExposureProgram | Manual |
ExposureTime | 1/400 |
FillLight | 0 |
Firmware | 1.1.1 |
Flash | Off, Did not fire |
FlashCompensation | -0.666666666666667 |
FlashFired | False |
FlashFunction | False |
FlashMode | Off |
FlashRedEyeMode | False |
FlashReturn | No return detection |
FNumber | 6.3 |
FocalLength | 18.0 mm |
FocalLength35efl | 18.0 mm (35 mm equivalent: 29.1 mm) |
Format | image/jpeg |
FOV | 63.4 deg |
GrayMixerAqua | -19 |
GrayMixerBlue | -100 |
GrayMixerGreen | -28 |
GrayMixerMagenta | +6 |
GrayMixerOrange | -19 |
GrayMixerPurple | +18 |
GrayMixerRed | -100 |
GrayMixerYellow | -24 |
GreenHue | 0 |
GreenSaturation | 0 |
HasCrop | True |
HasSettings | True |
HighlightRecovery | 0 |
HyperfocalDistance | 2.77 m |
ICCProfileName | Gray Gamma 2.2 |
ImageHeight | 1216 |
ImageNumber | 144 |
ImageSize | 3714x1216 |
ImageWidth | 3714 |
ISO | 100 |
Lens | 18.0-200.0 mm |
LensID (1) | 169 |
LensID | Sigma 18-200mm f/3.5-6.3 DC OS |
LensInfo | 18-200mm f/? |
LightValue | 14.0 |
LuminanceSmoothing | 0 |
Make | Canon |
MaxApertureValue | 3.5 |
Megapixels | 4.5 |
MeteringMode | Multi-segment |
Model | Canon EOS 400D DIGITAL |
ModifyDate (1) | 2010:04:29 00:36:47+02:00 |
ModifyDate | 2010:04:29 00:36:47 |
Orientation | Horizontal (normal) |
OwnerName | unknown |
ParametricDarks | -100 |
ParametricHighlights | +5 |
ParametricHighlightSplit | 75 |
ParametricLights | +9 |
ParametricMidtoneSplit | 50 |
ParametricShadows | -100 |
ParametricShadowSplit | 25 |
PostCropVignetteAmount | 0 |
ProfileDescription | Gray Gamma 2.2 |
Rating | 0 |
RawFileName | Overføring 09.02.2010 131.CR2 |
RedHue | 0 |
RedSaturation | 0 |
ScaleFactor35efl | 1.6 |
SceneCaptureType | Standard |
SerialNumber | 1881120138 |
Shadows | 5 |
ShadowTint | 0 |
SharpenDetail | 25 |
SharpenEdgeMasking | 0 |
SharpenRadius | +1.0 |
Sharpness | 25 |
ShutterSpeed | 1/400 |
ShutterSpeedValue | 1/400 |
Software | Adobe Photoshop CS4 Windows |
SplitToningBalance | 0 |
SplitToningHighlightHue | 0 |
SplitToningHighlightSaturation | 0 |
SplitToningShadowHue | 0 |
SplitToningShadowSaturation | 0 |
Tint | +23 |
ToneCurve | 0, 0, 32, 22, 64, 56, 128, 128, 192, 196, 255, 255 |
ToneCurveName | Medium Contrast |
URL_List | |
Version | 5.6 |
VignetteAmount | 0 |
WhiteBalance (2) | Custom |
WhiteBalance | Manual |