Felt | Verdi |
AlreadyApplied | True |
Aperture | 3.6 |
ApertureValue | 3.6 |
BitsPerSample | 8 |
BlueHue | 0 |
BlueSaturation | 0 |
Brightness | 0 |
BrightnessValue | 5.7 |
CameraProfile | Embedded |
Caption-Abstract | KONICA MINOLTA DIGITAL CAMERA |
ChromaticAberrationB | 0 |
ChromaticAberrationR | 0 |
CircleOfConfusion | 0.005 mm |
Clarity | +100 |
ColorComponents | 1 |
ColorNoiseReduction | 0 |
Contrast (2) | +41 |
Contrast | Normal |
ConvertToGrayscale | True |
CreateDate (1) | 2005:09:03 13:59:24+02:00 |
CreateDate | 2005:09:03 13:59:24 |
CreatorTool | Adobe Photoshop Lightroom |
CropAngle | -0.984886 |
CropBottom | 0.977642 |
CropHeight | 500 |
CropLeft | 0.014915 |
CropRight | 1 |
CropTop | 0.248544 |
CropUnit | pixels |
CropWidth | 865 |
CustomRendered | Normal |
DateTimeDigitized | 2005:09:03 13:59:24+02:00 |
DateTimeOriginal (1) | 2005:09:03 13:59:24+02:00 |
DateTimeOriginal | 2005:09:03 13:59:24 |
Defringe | 0 |
Description | KONICA MINOLTA DIGITAL CAMERA |
DigitalZoomRatio | 1.6 |
ExifImageHeight | 500 |
ExifImageWidth | 865 |
Exposure | 0.00 |
ExposureCompensation | 0 |
ExposureMode | Auto |
ExposureProgram | Program AE |
ExposureTime | 1/180 |
FillLight | 0 |
Flash | Auto, Did not fire |
FlashCompensation | 0 |
FlashFired | False |
FlashFunction | False |
FlashMode | Auto |
FlashRedEyeMode | False |
FlashReturn | No return detection |
FNumber | 3.6 |
FocalLength | 17.1 mm |
FocalLength35efl | 17.1 mm (35 mm equivalent: 111.0 mm) |
FocalLengthIn35mmFormat | 111 mm |
FOV | 18.4 deg |
GainControl | None |
GrayMixerAqua | 0 |
GrayMixerBlue | 0 |
GrayMixerGreen | +34 |
GrayMixerMagenta | 0 |
GrayMixerOrange | +6 |
GrayMixerPurple | 0 |
GrayMixerRed | 0 |
GrayMixerYellow | 0 |
GreenHue | 0 |
GreenSaturation | 0 |
HasCrop | True |
HasSettings | True |
HighlightRecovery | 0 |
HyperfocalDistance | 17.55 m |
ImageDescription | KONICA MINOLTA DIGITAL CAMERA |
ImageHeight | 500 |
ImageSize | 865x500 |
ImageWidth | 865 |
IncrementalTemperature | 0 |
IncrementalTint | 0 |
ISO | 50 |
LightSource | Unknown |
LightValue | 12.2 |
LuminanceSmoothing | 0 |
Make | Konica Minolta Camera, Inc. |
MaxApertureValue | 3.6 |
Megapixels | 0.432 |
MeteringMode | Multi-segment |
Model | DiMAGE Xg |
ModifyDate (1) | 2009:12:04 17:22:16+01:00 |
ModifyDate | 2009:12:04 17:22:16 |
ParametricDarks | -17 |
ParametricHighlights | 0 |
ParametricHighlightSplit | 75 |
ParametricLights | +4 |
ParametricMidtoneSplit | 50 |
ParametricShadows | 0 |
ParametricShadowSplit | 25 |
PostCropVignetteAmount | 0 |
ProfileDescription | sRGB IEC61966-2.1 |
RedHue | 0 |
RedSaturation | 0 |
Saturation | Normal |
ScaleFactor35efl | 6.5 |
SceneCaptureType | Standard |
SceneType | Directly photographed |
Shadows | 0 |
ShadowTint | 0 |
SharpenDetail | 25 |
SharpenEdgeMasking | 0 |
SharpenRadius | +1.0 |
Sharpness (2) | 77 |
Sharpness | Normal |
ShutterSpeed | 1/180 |
ShutterSpeedValue | 1/180 |
Software | DiMAGE Xg Ver1.02 |
SplitToningBalance | 0 |
SplitToningHighlightHue | 0 |
SplitToningHighlightSaturation | 0 |
SplitToningShadowHue | 0 |
SplitToningShadowSaturation | 0 |
SubjectArea (1) | 1024, 768, 512, 384 |
SubjectArea | 1024 768 512 384 |
SubjectDistanceRange | Distant |
ToneCurve | 0, 0, 255, 255 |
ToneCurveName | Linear |
Version | 5.5 |
VignetteAmount | 0 |
WhiteBalance (2) | As Shot |
WhiteBalance | Auto |