Felt | Verdi |
AlreadyApplied | True |
Aperture | 13.0 |
ApertureValue | 13.0 |
Artist | unknown |
BitsPerSample | 8 |
BlueHue | 0 |
BlueSaturation | 0 |
Brightness | +22 |
By-line | unknown |
CameraProfile | ACR 4.4 |
ChromaticAberrationB | 0 |
ChromaticAberrationR | 0 |
CircleOfConfusion | 0.019 mm |
Clarity | +100 |
ColorComponents | 1 |
ColorNoiseReduction | 0 |
ColorTemperature | 4650 |
Contrast | +73 |
ConvertToGrayscale | True |
CreateDate (1) | 2007:12:11 15:11:24+01:00 |
CreateDate | 2007:12:11 15:11:24 |
Creator | unknown |
CreatorTool | Adobe Photoshop Lightroom |
CropAngle | -1.39587 |
CropBottom | 0.828363 |
CropHeight | 600 |
CropLeft | 0.047619 |
CropRight | 0.639358 |
CropTop | 0.230172 |
CropUnit | pixels |
CropWidth | 845 |
CustomRendered | Normal |
DateTimeDigitized | 2007:12:11 15:11:24+01:00 |
DateTimeOriginal (1) | 2007:12:11 15:11:24+01:00 |
DateTimeOriginal | 2007:12:11 15:11:24 |
Defringe | 0 |
ExifImageHeight | 600 |
ExifImageWidth | 845 |
Exposure | 0.00 |
ExposureCompensation | +1/3 |
ExposureMode | Auto |
ExposureProgram | Program AE |
ExposureTime | 1/320 |
FillLight | 0 |
Firmware | 1.0.3 |
Flash | Off, Did not fire |
FlashCompensation | 0 |
FlashFired | False |
FlashFunction | False |
FlashMode | Off |
FlashRedEyeMode | False |
FlashReturn | No return detection |
FNumber | 13.0 |
FocalLength | 55.0 mm |
FocalLength35efl | 55.0 mm (35 mm equivalent: 89.2 mm) |
FOV | 22.8 deg |
GrayMixerAqua | -23 |
GrayMixerBlue | -4 |
GrayMixerGreen | -16 |
GrayMixerMagenta | +11 |
GrayMixerOrange | 0 |
GrayMixerPurple | +9 |
GrayMixerRed | +9 |
GrayMixerYellow | -4 |
GreenHue | 0 |
GreenSaturation | 0 |
HasCrop | True |
HasSettings | True |
HighlightRecovery | 15 |
HyperfocalDistance | 12.56 m |
ImageHeight | 600 |
ImageNumber | 234 |
ImageSize | 845x600 |
ImageWidth | 845 |
ISO | 1600 |
Lens | 18.0-55.0 mm |
LensInfo | 18-55mm f/? |
LightValue | 11.7 |
LuminanceSmoothing | 0 |
Make | Canon |
MaxApertureValue | 5.6 |
Megapixels | 0.507 |
MeteringMode | Multi-segment |
Model | Canon EOS 350D DIGITAL |
ModifyDate (1) | 2009:09:27 17:34:11+02:00 |
ModifyDate | 2009:09:27 17:34:11 |
OwnerName | unknown |
ParametricDarks | -34 |
ParametricHighlights | 0 |
ParametricHighlightSplit | 75 |
ParametricLights | 0 |
ParametricMidtoneSplit | 50 |
ParametricShadows | 0 |
ParametricShadowSplit | 25 |
PostCropVignetteAmount | 0 |
ProfileDescription | sRGB IEC61966-2.1 |
RedHue | 0 |
RedSaturation | 0 |
ScaleFactor35efl | 1.6 |
SceneCaptureType | Standard |
SerialNumber | 1430733544 |
Shadows | 13 |
ShadowTint | 0 |
SharpenDetail | 25 |
SharpenEdgeMasking | 0 |
SharpenRadius | +1.0 |
Sharpness | 25 |
ShutterSpeed | 1/320 |
ShutterSpeedValue | 1/320 |
SplitToningBalance | 0 |
SplitToningHighlightHue | 0 |
SplitToningHighlightSaturation | 0 |
SplitToningShadowHue | 0 |
SplitToningShadowSaturation | 0 |
Tint | -3 |
ToneCurve | 0, 0, 32, 22, 64, 56, 128, 128, 192, 196, 255, 255 |
ToneCurveName | Medium Contrast |
Version | 5.4 |
VignetteAmount | 0 |
WhiteBalance (2) | As Shot |
WhiteBalance | Auto |