Felt | Verdi |
AlreadyApplied | True |
Aperture | 4.5 |
ApertureValue | 4.5 |
BitsPerSample | 8 |
BlueHue | 0 |
BlueSaturation | 0 |
Brightness | +59 |
CameraProfile | ACR 4.4 |
ChromaticAberrationB | 0 |
ChromaticAberrationR | 0 |
Clarity | +100 |
ColorComponents | 1 |
ColorNoiseReduction | 58 |
ColorTemperature | 4500 |
Contrast | +16 |
ConvertToGrayscale | True |
CopyrightFlag | True |
CreateDate (1) | 2007:06:20 08:31:14+02:00 |
CreateDate | 2007:06:20 08:31:14 |
CreatorTool | Adobe Photoshop Lightroom |
CropAngle | 1.51612 |
CropBottom | 0.995345 |
CropHeight | 1000 |
CropLeft | 0.111544 |
CropRight | 0.713962 |
CropTop | 0.042585 |
CropUnit | pixels |
CropWidth | 1000 |
DateTimeDigitized | 2007:06:20 08:31:14+02:00 |
DateTimeOriginal (1) | 2007:06:20 08:31:14+02:00 |
DateTimeOriginal | 2007:06:20 08:31:14 |
Defringe | 0 |
ExifImageHeight | 1000 |
ExifImageWidth | 1000 |
Exposure | +4.00 |
ExposureCompensation | -1/2 |
ExposureProgram | Program AE |
ExposureTime | 1/90 |
FillLight | 0 |
Firmware | 2.0.1 |
Flash | No Flash |
FlashFired | False |
FNumber | 4.5 |
FocalLength | 70.0 mm |
FocalLength35efl | 70.0 mm |
GrayMixerAqua | -20 |
GrayMixerBlue | 0 |
GrayMixerGreen | -18 |
GrayMixerMagenta | +5 |
GrayMixerOrange | -7 |
GrayMixerPurple | +9 |
GrayMixerRed | -1 |
GrayMixerYellow | -10 |
GreenHue | 0 |
GreenSaturation | 0 |
HasCrop | True |
HasSettings | True |
HighlightRecovery | 0 |
ImageHeight | 1000 |
ImageSize | 1000x1000 |
ImageWidth | 1000 |
ISO | 400 |
Lens | 70.0-200.0 mm |
LensInfo | 70-200mm f/? |
LightValue | 8.8 |
LuminanceSmoothing | 35 |
Make | Canon |
Marked | True |
MaxApertureValue | 4.0 |
Megapixels | 1.0 |
MeteringMode | Multi-segment |
Model | Canon EOS 10D |
ModifyDate (1) | 2009:07:25 09:52:12+02:00 |
ModifyDate | 2009:07:25 09:52:12 |
ParametricDarks | -12 |
ParametricHighlights | -36 |
ParametricHighlightSplit | 75 |
ParametricLights | +38 |
ParametricMidtoneSplit | 50 |
ParametricShadows | +23 |
ParametricShadowSplit | 25 |
PostCropVignetteAmount | 0 |
ProfileDescription | sRGB IEC61966-2.1 |
Rating | 5 |
RedHue | 0 |
RedSaturation | 0 |
SerialNumber | 0630310575 |
Shadows | 100 |
ShadowTint | 0 |
SharpenDetail | 25 |
SharpenEdgeMasking | 0 |
SharpenRadius | +1.0 |
Sharpness | 6 |
ShutterSpeed | 1/90 |
ShutterSpeedValue | 1/90 |
SplitToningBalance | 0 |
SplitToningHighlightHue | 0 |
SplitToningHighlightSaturation | 0 |
SplitToningShadowHue | 158 |
SplitToningShadowSaturation | 0 |
Tint | +23 |
ToneCurve | 0, 0, 255, 255 |
ToneCurveName | Linear |
Version | 5.4 |
VignetteAmount | 0 |
WhiteBalance | As Shot |