Felt | Verdi |
AlreadyApplied | True |
Aperture | 6.3 |
ApertureValue | 6.3 |
ApproximateFocusDistance | 2.82 |
Artist | jes.Foto |
AutoLateralCA | 1 |
BitsPerSample | 8 |
Blacks2012 | -11 |
BlueHue | 0 |
BlueSaturation | 0 |
By-line | jes.Foto |
CameraProfile | Adobe Standard |
CircleOfConfusion | 0.022 mm |
Clarity2012 | +30 |
ColorComponents | 3 |
ColorNoiseReduction | 25 |
ColorNoiseReductionDetail | 50 |
ColorNoiseReductionSmoothness | 50 |
ColorSpace | sRGB |
ColorTemperature | 4137 |
ColorTransform | YCbCr |
Contrast2012 | 0 |
ConvertToGrayscale | True |
Copyright | jes.Foto |
CopyrightNotice | jes.Foto |
CreateDate (1) | 2020:07:06 20:06:43.37Z |
CreateDate | 2020:07:06 20:06:43 |
Creator | jes.Foto |
CreatorTool | Adobe Photoshop Lightroom Classic 9.3 (Macintosh) |
CropAngle | -1.30231 |
CropBottom | 0.81882 |
CropConstrainToWarp | 0 |
CropLeft | 0.06875 |
CropRight | 0.819205 |
CropTop | 0.104775 |
CustomRendered | Normal |
DateCreated (1) | 2020:07:06 20:06:43.37Z |
DateCreated | 2020:07:06 |
DateTimeOriginal | 2020:07:06 20:06:43 |
Dehaze | 0 |
DistortionCorrectionAlreadyApplied | True |
DOF | 0.007 m (2.817 - 2.823 m) |
ExifImageHeight | 4500 |
ExifImageWidth | 3000 |
Exposure2012 | -0.25 |
ExposureCompensation | 0 |
ExposureMode | Manual |
ExposureProgram | Manual |
ExposureTime | 1/1000 |
Firmware | 1.2.0 |
Flash | No Flash |
FlashCompensation | 0 |
FNumber | 6.3 |
FocalLength | 516.0 mm |
FocalLength35efl | 516.0 mm (35 mm equivalent: 716.9 mm) |
Format | image/jpeg |
FOV | 2.9 deg |
GrainAmount | 0 |
GrayMixerAqua | -100 |
GrayMixerBlue | 0 |
GrayMixerGreen | -100 |
GrayMixerMagenta | 0 |
GrayMixerOrange | +29 |
GrayMixerPurple | 0 |
GrayMixerRed | +25 |
GrayMixerYellow | -37 |
GreenHue | 0 |
GreenSaturation | 0 |
HasCrop | True |
HasExtendedXMP | 92244511810B8E9FE0BFB78B7B1C8137 |
HasSettings | True |
Highlights2012 | -100 |
HyperfocalDistance | 1954.23 m |
ImageHeight | 4500 |
ImageNumber | 0 |
ImageSize | 3000x4500 |
ImageWidth | 3000 |
ISO | 1600 |
LateralChromaticAberrationCorrectionAlreadyApplied | True |
Lens | 150-600mm F5-6.3 DG OS HSM | Contemporary 015 |
LensID (2) | 624 |
LensID | Sigma 70-200mm f/2.8 DG OS HSM | S |
LensInfo (1) | 150-600mm f/? |
LensInfo | 150-600mm f/0 |
LensManualDistortionAmount | 0 |
LensModel | 150-600mm F5-6.3 DG OS HSM | Contemporary 015 |
LensProfileChromaticAberrationScale | 100 |
LensProfileDistortionScale | 100 |
LensProfileEnable | 1 |
LensProfileFilename | Canon (SIGMA 150-600mm F5-6.3 DG OS HSM C015) - RAW.lcp |
LensProfileName | Adobe (SIGMA 150-600mm F5-6.3 DG OS HSM C015, Canon) |
LensProfileSetup | Custom |
LensProfileVignettingScale | 100 |
LensSerialNumber | 0000000000 |
LightValue | 11.3 |
LookAmount | 1.000000 |
LookGroup | Profiles |
LookName | Adobe Monochrome |
LookParametersCameraProfile | Adobe Standard |
LookParametersClarity2012 | +8 |
LookParametersConvertToGrayscale | True |
LookParametersLookTable | 73ED6C18DDE909DD7EA2D771F5AC282D |
LookParametersProcessVersion | 11.0 |
LookParametersToneCurvePV2012 | 0, 0, 64, 56, 128, 128, 192, 197, 255, 255 |
LookParametersToneCurvePV2012Blue | 0, 0, 255, 255 |
LookParametersToneCurvePV2012Green | 0, 0, 255, 255 |
LookParametersToneCurvePV2012Red | 0, 0, 255, 255 |
LookParametersVersion | 12.3 |
LookSupportsAmount | false |
LookSupportsMonochrome | false |
LookSupportsOutputReferred | false |
LuminanceSmoothing | 0 |
Make | Canon |
MaxApertureValue | 6.2 |
Megapixels | 13.5 |
MeteringMode | Center-weighted average |
Model | Canon EOS RP |
ModifyDate (1) | 2020:07:25 22:29:25+02:00 |
ModifyDate | 2020:07:25 22:29:25 |
OverrideLookVignette | False |
PaintCorrectionActive | true |
PaintCorrectionAmount | 1.000000 |
PaintCorrectionBrightness | 0.000000 |
PaintCorrectionClarity2012 | 0.000000 |
PaintCorrectionContrast2012 | 0.000000 |
PaintCorrectionCorrectionRangeMaskColorAmount | 0.500000 |
PaintCorrectionCorrectionRangeMaskDepthFeather | 0.500000 |
PaintCorrectionCorrectionRangeMaskDepthMax | 1.000000 |
PaintCorrectionCorrectionRangeMaskDepthMin | 0.000000 |
PaintCorrectionCorrectionRangeMaskLumFeather | 0.500000 |
PaintCorrectionCorrectionRangeMaskLumMax | 1.000000 |
PaintCorrectionCorrectionRangeMaskLumMin | 0.000000 |
PaintCorrectionCorrectionRangeMaskType | 0 |
PaintCorrectionCorrectionRangeMaskVersion | +2 |
PaintCorrectionDefringe | 0.000000 |
PaintCorrectionExposure2012 (1) | 0.275000 |
PaintCorrectionExposure2012 (2) | -0.682826 |
PaintCorrectionExposure2012 (3) | 0.000000 |
PaintCorrectionExposure2012 (4) | 0.109776 |
PaintCorrectionExposure2012 (5) | 0.295940 |
PaintCorrectionExposure2012 | 0.099826 |
PaintCorrectionHighlights2012 | 0.000000 |
PaintCorrectionHue | 240.000000 |
PaintCorrectionLocalBlacks2012 | 0.000000 |
PaintCorrectionLocalDehaze | 0.000000 |
PaintCorrectionLocalHue | 0.000000 |
PaintCorrectionLocalTexture | 0.000000 |
PaintCorrectionLocalWhites2012 | 0.000000 |
PaintCorrectionLuminanceNoise (3) | 1.000000 |
PaintCorrectionLuminanceNoise | 0.000000 |
PaintCorrectionMaskCenterWeight | 0.000000 |
PaintCorrectionMaskFlow (40) | 1.000000 |
PaintCorrectionMaskFlow | 0.900000 |
PaintCorrectionMaskRadius (1) | 0.077000 |
PaintCorrectionMaskRadius (11) | 0.018530 |
PaintCorrectionMaskRadius (14) | 0.014738 |
PaintCorrectionMaskRadius (15) | 0.011074 |
PaintCorrectionMaskRadius (16) | 0.009290 |
PaintCorrectionMaskRadius (19) | 0.016618 |
PaintCorrectionMaskRadius (2) | 0.050746 |
PaintCorrectionMaskRadius (23) | 0.174414 |
PaintCorrectionMaskRadius (24) | 0.091670 |
PaintCorrectionMaskRadius (25) | 0.133989 |
PaintCorrectionMaskRadius (26) | 0.142570 |
PaintCorrectionMaskRadius (27) | 0.044686 |
PaintCorrectionMaskRadius (3) | 0.032204 |
PaintCorrectionMaskRadius (31) | 0.160955 |
PaintCorrectionMaskRadius (32) | 0.052631 |
PaintCorrectionMaskRadius (37) | 0.075661 |
PaintCorrectionMaskRadius (4) | 0.014647 |
PaintCorrectionMaskRadius (42) | 0.026500 |
PaintCorrectionMaskRadius (45) | 0.005820 |
PaintCorrectionMaskRadius (46) | 0.009158 |
PaintCorrectionMaskRadius (47) | 0.009161 |
PaintCorrectionMaskRadius (48) | 0.009156 |
PaintCorrectionMaskRadius (49) | 0.009185 |
PaintCorrectionMaskRadius (5) | 0.044456 |
PaintCorrectionMaskRadius (51) | 0.009210 |
PaintCorrectionMaskRadius (52) | 0.009171 |
PaintCorrectionMaskRadius (53) | 0.009167 |
PaintCorrectionMaskRadius (54) | 0.020336 |
PaintCorrectionMaskRadius (55) | 0.030361 |
PaintCorrectionMaskRadius (56) | 0.016483 |
PaintCorrectionMaskRadius (57) | 0.007453 |
PaintCorrectionMaskRadius (58) | 0.020301 |
PaintCorrectionMaskRadius (59) | 0.007448 |
PaintCorrectionMaskRadius (60) | 0.022136 |
PaintCorrectionMaskRadius (61) | 0.010916 |
PaintCorrectionMaskRadius (62) | 0.036733 |
PaintCorrectionMaskRadius (63) | 0.036895 |
PaintCorrectionMaskRadius (64) | 0.036910 |
PaintCorrectionMaskRadius (65) | 0.003728 |
PaintCorrectionMaskRadius (66) | 0.003726 |
PaintCorrectionMaskRadius (67) | 0.003724 |
PaintCorrectionMaskRadius (68) | 0.003722 |
PaintCorrectionMaskRadius (69) | 0.003729 |
PaintCorrectionMaskRadius (70) | 0.003730 |
PaintCorrectionMaskRadius (71) | 0.003733 |
PaintCorrectionMaskRadius (72) | 0.003735 |
PaintCorrectionMaskRadius (73) | 0.003734 |
PaintCorrectionMaskRadius (74) | 0.037934 |
PaintCorrectionMaskRadius (80) | 0.046312 |
PaintCorrectionMaskRadius (82) | 0.030334 |
PaintCorrectionMaskRadius (83) | 0.030332 |
PaintCorrectionMaskRadius (84) | 0.030339 |
PaintCorrectionMaskRadius (85) | 0.030323 |
PaintCorrectionMaskRadius (87) | 0.030343 |
PaintCorrectionMaskRadius (88) | 0.030340 |
PaintCorrectionMaskRadius (89) | 0.030324 |
PaintCorrectionMaskRadius | 0.030327 |
PaintCorrectionMaskValue (11) | 0.000000 |
PaintCorrectionMaskValue | 1.000000 |
PaintCorrectionMaskWhat | Mask/Paint |
PaintCorrectionMoire | 0.000000 |
PaintCorrectionSaturation | 0.000000 |
PaintCorrectionShadows2012 | 0.000000 |
PaintCorrectionSharpness (3) | -1.000000 |
PaintCorrectionSharpness | 0.000000 |
PaintCorrectionTemperature | 0.000000 |
PaintCorrectionTint | 0.000000 |
PaintCorrectionWhat | Correction |
ParametricDarks | -8 |
ParametricHighlights | +98 |
ParametricHighlightSplit | 75 |
ParametricLights | 0 |
ParametricMidtoneSplit | 50 |
ParametricShadows | -14 |
ParametricShadowSplit | 25 |
PerspectiveAspect | 0 |
PerspectiveHorizontal | 0 |
PerspectiveRotate | 0.0 |
PerspectiveScale | 100 |
PerspectiveUpright | 0 |
PerspectiveVertical | 0 |
PerspectiveX | 0.00 |
PerspectiveY | 0.00 |
PostCropVignetteAmount | 0 |
PreservedFileName | IMG_4025.CR3 |
ProcessVersion | 11.0 |
ProfileDescription | sRGB IEC61966-2.1 |
RawFileName | IMG_4025.CR3 |
RecommendedExposureIndex | 1600 |
RedHue | 0 |
RedSaturation | 0 |
Rights | jes.Foto |
ScaleFactor35efl | 1.4 |
SceneCaptureType | Standard |
SensitivityType | Recommended Exposure Index |
SerialNumber | 083023001915 |
Shadows2012 | -100 |
ShadowTint | 0 |
SharpenDetail | 29 |
SharpenEdgeMasking | 80 |
SharpenRadius | +1.0 |
Sharpness | 81 |
ShutterSpeed | 1/1000 |
ShutterSpeedValue | 1/1000 |
Software | Adobe Photoshop Lightroom Classic 9.3 (Macintosh) |
SplitToningBalance | 0 |
SplitToningHighlightHue | 0 |
SplitToningHighlightSaturation | 0 |
SplitToningShadowHue | 0 |
SplitToningShadowSaturation | 0 |
Texture | 0 |
Tint | +18 |
ToneCurve | 0, 0, 255, 255 |
ToneCurveBlue | 0, 0, 255, 255 |
ToneCurveGreen | 0, 0, 255, 255 |
ToneCurveName | Linear |
ToneCurveName2012 | Custom |
ToneCurvePV2012 | 0, 0, 65, 60, 191, 199, 255, 255 |
ToneCurvePV2012Blue | 0, 0, 255, 255 |
ToneCurvePV2012Green | 0, 0, 255, 255 |
ToneCurvePV2012Red | 0, 0, 255, 255 |
ToneCurveRed | 0, 0, 255, 255 |
ToneMapStrength | 0 |
Version | 12.3 |
VignetteAmount | 0 |
VignetteCorrectionAlreadyApplied | True |
WhiteBalance (1) | Custom |
WhiteBalance | Manual |
Whites2012 | +25 |