Felt | Verdi |
AlreadyApplied | True |
Aperture | 9.0 |
ApertureValue | 9.0 |
ApproximateFocusDistance | 0.51 |
Artist | OYVIND HALLGREN |
AutoLateralCA | 0 |
BitsPerSample | 8 |
Blacks2012 | 0 |
BlueHue | 0 |
BlueSaturation | 0 |
By-line | OYVIND HALLGREN |
CameraProfile | Adobe Standard |
CircGradBasedCorrActive | true |
CircGradBasedCorrAmount | 1.000000 |
CircGradBasedCorrBrightness | 0.000000 |
CircGradBasedCorrClarity2012 (1) | -0.500000 |
CircGradBasedCorrClarity2012 | 0.500000 |
CircGradBasedCorrContrast2012 (1) | -0.355000 |
CircGradBasedCorrContrast2012 (3) | 0.250000 |
CircGradBasedCorrContrast2012 | 0.000000 |
CircGradBasedCorrCorrectionRangeMaskColorAmount | 0.500000 |
CircGradBasedCorrCorrectionRangeMaskDepthFeather | 0.500000 |
CircGradBasedCorrCorrectionRangeMaskDepthMax | 1.000000 |
CircGradBasedCorrCorrectionRangeMaskDepthMin | 0.000000 |
CircGradBasedCorrCorrectionRangeMaskLumFeather | 0.500000 |
CircGradBasedCorrCorrectionRangeMaskLumMax | 1.000000 |
CircGradBasedCorrCorrectionRangeMaskLumMin | 0.000000 |
CircGradBasedCorrCorrectionRangeMaskType | 0 |
CircGradBasedCorrCorrectionRangeMaskVersion | +2 |
CircGradBasedCorrDefringe | 0.000000 |
CircGradBasedCorrExposure2012 (1) | -0.187500 |
CircGradBasedCorrExposure2012 (3) | 0.125000 |
CircGradBasedCorrExposure2012 | 0.062500 |
CircGradBasedCorrHighlights2012 | -0.500000 |
CircGradBasedCorrHue | 55.519501 |
CircGradBasedCorrLuminanceNoise | 0.000000 |
CircGradBasedCorrMaskAngle | 0.000000 |
CircGradBasedCorrMaskBottom (1) | 0.980848 |
CircGradBasedCorrMaskBottom (2) | 0.950309 |
CircGradBasedCorrMaskBottom (3) | 0.871112 |
CircGradBasedCorrMaskBottom | 0.867589 |
CircGradBasedCorrMaskFeather (2) | +100 |
CircGradBasedCorrMaskFeather | +56 |
CircGradBasedCorrMaskFlipped (2) | false |
CircGradBasedCorrMaskFlipped | true |
CircGradBasedCorrMaskLeft (1) | 0.209202 |
CircGradBasedCorrMaskLeft (2) | 0.210862 |
CircGradBasedCorrMaskLeft (3) | 0.273239 |
CircGradBasedCorrMaskLeft | 0.252969 |
CircGradBasedCorrMaskMidpoint | +50 |
CircGradBasedCorrMaskRight (1) | 0.898699 |
CircGradBasedCorrMaskRight (2) | 0.858172 |
CircGradBasedCorrMaskRight (3) | 0.850757 |
CircGradBasedCorrMaskRight | 0.830486 |
CircGradBasedCorrMaskRoundness | 0 |
CircGradBasedCorrMaskTop (1) | -0.052969 |
CircGradBasedCorrMaskTop (2) | -0.020257 |
CircGradBasedCorrMaskTop (3) | 0.005191 |
CircGradBasedCorrMaskTop | 0.001669 |
CircGradBasedCorrMaskValue | 1.000000 |
CircGradBasedCorrMaskVersion | +2 |
CircGradBasedCorrMaskWhat | Mask/CircularGradient |
CircGradBasedCorrMoire | 0.000000 |
CircGradBasedCorrSaturation | 0.000000 |
CircGradBasedCorrShadows2012 (1) | -0.250000 |
CircGradBasedCorrShadows2012 | 0.500000 |
CircGradBasedCorrSharpness (2) | -0.500000 |
CircGradBasedCorrSharpness | 0.500000 |
CircGradBasedCorrTemperature | 0.000000 |
CircGradBasedCorrTint | 0.000000 |
CircGradBasedCorrWhat | Correction |
CircleOfConfusion | 0.036 mm |
Clarity2012 | +19 |
ColorComponents | 3 |
ColorNoiseReduction | 25 |
ColorNoiseReductionDetail | 50 |
ColorNoiseReductionSmoothness | 50 |
ColorSpace | sRGB |
ColorTemperature | 4500 |
ColorTransform | YCbCr |
Contrast2012 | +19 |
ConvertToGrayscale | True |
CreateDate (1) | 2020:05:01 09:55:46.25 |
CreateDate | 2020:05:01 09:55:46 |
Creator | OYVIND HALLGREN |
CreatorTool | Adobe Photoshop Lightroom Classic 9.2.1 (Macintosh) |
CropAngle | 0 |
CropBottom | 0.928517 |
CropConstrainToWarp | 0 |
CropLeft | 0.071483 |
CropRight | 1 |
CropTop | 0 |
CustomRendered | Normal |
DateCreated (1) | 2020:05:01 |
DateCreated | 2020:05:01 09:55:46.25 |
DateTimeOriginal | 2020:05:01 09:55:46 |
Dehaze | 0 |
DOF | 0.013 m (0.503 - 0.517 m) |
Exposure2012 | 0.00 |
ExposureCompensation | 0 |
ExposureMode | Manual |
ExposureProgram | Manual |
ExposureTime | 1/320 |
Firmware | 1.0.3 |
Flash | Off, Did not fire |
FlashCompensation | 0 |
FNumber | 9.0 |
FocalLength | 100.0 mm |
FocalLength35efl | 100.0 mm (35 mm equivalent: 84.0 mm) |
Format | image/jpeg |
FOV | 24.2 deg |
GrainAmount | 0 |
GrayMixerAqua | -19 |
GrayMixerBlue | +7 |
GrayMixerGreen | -25 |
GrayMixerMagenta | +5 |
GrayMixerOrange | -16 |
GrayMixerPurple | +14 |
GrayMixerRed | -7 |
GrayMixerYellow | -20 |
GreenHue | 0 |
GreenSaturation | 0 |
HasCrop | True |
HasSettings | True |
Highlights2012 | 0 |
HyperfocalDistance | 31.06 m |
ImageHeight | 5333 |
ImageNumber | 0 |
ImageSize | 8000x5333 |
ImageWidth | 8000 |
ISO | 400 |
Keywords | Tulipan, Vår, hagen |
Lens | EF100mm f/2.8L Macro IS USM |
LensID (1) | 254 |
LensID | Canon EF 100mm f/2.8L Macro IS USM |
LensInfo | 100mm f/? |
LensManualDistortionAmount | 0 |
LensModel | EF100mm f/2.8L Macro IS USM |
LensProfileEnable | 0 |
LensProfileSetup | LensDefaults |
LensSerialNumber | 000008632d |
LightValue | 12.7 |
LookAmount | 1.000000 |
LookGroup | Profiles |
LookName | Adobe Monochrome |
LookParametersCameraProfile | Adobe Standard |
LookParametersClarity2012 | +8 |
LookParametersConvertToGrayscale | True |
LookParametersLookTable | 73ED6C18DDE909DD7EA2D771F5AC282D |
LookParametersProcessVersion | 11.0 |
LookParametersToneCurvePV2012 | 0, 0, 64, 56, 128, 128, 192, 197, 255, 255 |
LookParametersToneCurvePV2012Blue | 0, 0, 255, 255 |
LookParametersToneCurvePV2012Green | 0, 0, 255, 255 |
LookParametersToneCurvePV2012Red | 0, 0, 255, 255 |
LookParametersVersion | 12.2.1 |
LookSupportsAmount | false |
LookSupportsMonochrome | false |
LookSupportsOutputReferred | false |
LuminanceSmoothing | 0 |
Make | Canon |
MaxApertureValue | 2.8 |
Megapixels | 42.7 |
MeteringMode | Partial |
Model | Canon EOS 5D Mark IV |
ModifyDate (1) | 2020:05:01 11:01:23+02:00 |
ModifyDate | 2020:05:01 11:01:23 |
OverrideLookVignette | True |
ParametricDarks | 0 |
ParametricHighlights | 0 |
ParametricHighlightSplit | 75 |
ParametricLights | 0 |
ParametricMidtoneSplit | 50 |
ParametricShadows | 0 |
ParametricShadowSplit | 25 |
PerspectiveAspect | 0 |
PerspectiveHorizontal | 0 |
PerspectiveRotate | 0.0 |
PerspectiveScale | 100 |
PerspectiveUpright | 0 |
PerspectiveVertical | 0 |
PerspectiveX | 0.00 |
PerspectiveY | 0.00 |
PostCropVignetteAmount | -50 |
PostCropVignetteFeather | 50 |
PostCropVignetteHighlightContrast | 0 |
PostCropVignetteMidpoint | 50 |
PostCropVignetteRoundness | 0 |
PostCropVignetteStyle | 1 |
PreservedFileName | 2F0A3499.CR2 |
ProcessVersion | 11.0 |
ProfileDescription | sRGB IEC61966-2.1 |
RawFileName | 2F0A3499.CR2 |
RecommendedExposureIndex | 400 |
RedHue | 0 |
RedSaturation | 0 |
ScaleFactor35efl | 0.8 |
SceneCaptureType | Standard |
SensitivityType | Recommended Exposure Index |
SerialNumber | 053023000870 |
Shadows2012 | -22 |
ShadowTint | 0 |
SharpenDetail | 25 |
SharpenEdgeMasking | 0 |
SharpenRadius | +1.0 |
Sharpness | 25 |
ShutterSpeed | 1/320 |
ShutterSpeedValue | 1/320 |
Software | Adobe Photoshop Lightroom Classic 9.2.1 (Macintosh) |
SplitToningBalance | 0 |
SplitToningHighlightHue | 0 |
SplitToningHighlightSaturation | 0 |
SplitToningShadowHue | 0 |
SplitToningShadowSaturation | 0 |
Subject | Tulipan, Vår, hagen |
Texture | +27 |
Tint | -4 |
ToneCurve | 0, 0, 255, 255 |
ToneCurveBlue | 0, 0, 255, 255 |
ToneCurveGreen | 0, 0, 255, 255 |
ToneCurveName | Linear |
ToneCurveName2012 | Custom |
ToneCurvePV2012 | 0, 0, 75, 54, 197, 218, 255, 255 |
ToneCurvePV2012Blue | 0, 0, 255, 255 |
ToneCurvePV2012Green | 0, 0, 255, 255 |
ToneCurvePV2012Red | 0, 0, 255, 255 |
ToneCurveRed | 0, 0, 255, 255 |
ToneMapStrength | 0 |
Version | 12.2.1 |
VignetteAmount | 0 |
WhiteBalance (1) | As Shot |
WhiteBalance | Auto |
Whites2012 | 0 |