Felt | Verdi |
AlreadyApplied | True |
Aperture | 6.3 |
ApertureValue | 6.3 |
ApproximateFocusDistance | 8.91 |
Artist | Adrian Vindedal |
AutoLateralCA | 0 |
AutoWhiteVersion | 134348800 |
BitsPerSample | 8 |
Blacks2012 | +17 |
BlueHue | 0 |
BlueSaturation | 0 |
By-line | Adrian Vindedal |
CameraProfile | Adobe Standard |
CFAPattern | [Red,Green][Green,Blue] |
CircleOfConfusion | 0.030 mm |
Clarity2012 | +41 |
ColorComponents | 3 |
ColorNoiseReduction | 25 |
ColorNoiseReductionDetail | 50 |
ColorNoiseReductionSmoothness | 50 |
ColorTemperature | 6150 |
ColorTransform | YCbCr |
Contrast | Normal |
Contrast2012 | +32 |
ConvertToGrayscale | True |
Copyright | Kraakefingar |
CopyrightNotice | Kraakefingar |
CreateDate (1) | 2017:09:06 07:46:09.10 |
CreateDate | 2017:09:06 07:46:09 |
Creator | Adrian Vindedal |
CreatorTool | Adobe Photoshop Lightroom 5.3 (Macintosh) |
CropAngle | -0.196467 |
CropBottom | 0.996583 |
CropConstrainToWarp | 0 |
CropLeft | 0.217945 |
CropRight | 0.885499 |
CropTop | 0.003417 |
CustomRendered | Normal |
DateCreated (1) | 2017:09:06 |
DateCreated | 2017:09:06 07:46:09.10 |
DateTimeOriginal | 2017:09:06 07:46:09 |
DigitalZoomRatio | 1 |
DOF | 4.35 m (7.24 - 11.59 m) |
Exposure2012 | +0.10 |
ExposureCompensation | 0 |
ExposureMode | Auto |
ExposureProgram | Aperture-priority AE |
ExposureTime | 1/160 |
Flash | Off, Did not fire |
FNumber | 6.3 |
FocalLength | 85.0 mm |
FocalLength35efl | 85.0 mm (35 mm equivalent: 85.0 mm) |
FocalLengthIn35mmFormat | 85 mm |
Format | image/jpeg |
FOV | 23.9 deg |
GainControl | Low gain up |
GradientBasedCorrActive | true |
GradientBasedCorrAmount | 1.000000 |
GradientBasedCorrBrightness | 0.000000 |
GradientBasedCorrClarity2012 | 0.379596 |
GradientBasedCorrContrast2012 | 0.046196 |
GradientBasedCorrDefringe | 0.000000 |
GradientBasedCorrExposure2012 | -0.147079 |
GradientBasedCorrHighlights2012 | -0.194463 |
GradientBasedCorrHue | 0.000000 |
GradientBasedCorrLuminanceNoise | 0.000000 |
GradientBasedCorrMaskFullX | 0.528225 |
GradientBasedCorrMaskFullY | 0.943726 |
GradientBasedCorrMaskValue | 1.000000 |
GradientBasedCorrMaskWhat | Mask/Gradient |
GradientBasedCorrMaskZeroX | 0.527634 |
GradientBasedCorrMaskZeroY | 0.776852 |
GradientBasedCorrMoire | 0.000000 |
GradientBasedCorrSaturation (1) | -0.000908 |
GradientBasedCorrSaturation | 0.000000 |
GradientBasedCorrShadows2012 | 0.111121 |
GradientBasedCorrSharpness | 0.000000 |
GradientBasedCorrTemperature | 0.000000 |
GradientBasedCorrTint | 0.000000 |
GradientBasedCorrWhat | Correction |
GrainAmount | 0 |
GrayMixerAqua | -18 |
GrayMixerBlue | +11 |
GrayMixerGreen | -27 |
GrayMixerMagenta | +4 |
GrayMixerOrange | -19 |
GrayMixerPurple | +17 |
GrayMixerRed | -10 |
GrayMixerYellow | -24 |
GreenHue | 0 |
GreenSaturation | 0 |
HasCrop | True |
HasSettings | True |
Highlights2012 | -14 |
HyperfocalDistance | 38.17 m |
ImageHeight | 4002 |
ImageNumber | 33602 |
ImageSize | 4002x4002 |
ImageWidth | 4002 |
ISO | 800 |
Lens | 85.0 mm f/1.8 |
LensID (1) | 179 |
LensID | AF-S Nikkor 85mm f/1.8G |
LensInfo | 85mm f/1.8 |
LensManualDistortionAmount | 0 |
LensModel | 85.0 mm f/1.8 |
LensProfileEnable | 0 |
LensProfileSetup | LensDefaults |
LightSource | Unknown |
LightValue | 9.6 |
LuminanceSmoothing | 0 |
Make | NIKON CORPORATION |
MaxApertureValue | 1.7 |
Megapixels | 16.0 |
MeteringMode | Multi-segment |
Model | NIKON D610 |
ModifyDate (1) | 2017:10:02 20:37:02+02:00 |
ModifyDate | 2017:10:02 20:37:02 |
PaintCorrectionActive | true |
PaintCorrectionAmount | 1.000000 |
PaintCorrectionBrightness | 0.000000 |
PaintCorrectionClarity2012 | 0.379596 |
PaintCorrectionContrast2012 | 0.167242 |
PaintCorrectionDefringe | 0.000000 |
PaintCorrectionExposure2012 | 0.340523 |
PaintCorrectionHighlights2012 | -0.463230 |
PaintCorrectionHue | 0.000000 |
PaintCorrectionLuminanceNoise | 0.000000 |
PaintCorrectionMaskCenterWeight | 0.126697 |
PaintCorrectionMaskFlow | 0.531981 |
PaintCorrectionMaskRadius | 0.133147 |
PaintCorrectionMaskValue | 0.702045 |
PaintCorrectionMaskWhat | Mask/Paint |
PaintCorrectionMoire | 0.000000 |
PaintCorrectionSaturation (1) | -0.000908 |
PaintCorrectionSaturation | 0.000000 |
PaintCorrectionShadows2012 | 0.111121 |
PaintCorrectionSharpness | 0.000000 |
PaintCorrectionTemperature | 0.000000 |
PaintCorrectionTint | 0.000000 |
PaintCorrectionWhat | Correction |
ParametricDarks | 0 |
ParametricHighlights | 0 |
ParametricHighlightSplit | 75 |
ParametricLights | 0 |
ParametricMidtoneSplit | 50 |
ParametricShadows | 0 |
ParametricShadowSplit | 25 |
PerspectiveAspect | 0 |
PerspectiveHorizontal | 0 |
PerspectiveRotate | 0.0 |
PerspectiveScale | 100 |
PerspectiveUpright | 0 |
PerspectiveVertical | 0 |
PostCropVignetteAmount | 0 |
ProcessVersion | 6.7 |
ProfileDescription | sRGB IEC61966-2.1 |
RedHue | 0 |
RedSaturation | 0 |
Rights | Kraakefingar |
Saturation | Normal |
ScaleFactor35efl | 1.0 |
SceneCaptureType | Standard |
SceneType | Directly photographed |
SensingMethod | One-chip color area |
SensitivityType | Recommended Exposure Index |
SerialNumber | 6012145 |
Shadows2012 | +31 |
ShadowTint | 0 |
SharpenDetail | 25 |
SharpenEdgeMasking | 0 |
SharpenRadius | +1.0 |
Sharpness (1) | 50 |
Sharpness | Normal |
ShutterSpeed | 1/160 |
ShutterSpeedValue | 1/160 |
Software | Adobe Photoshop Lightroom 5.3 (Macintosh) |
SplitToningBalance | 0 |
SplitToningHighlightHue | 0 |
SplitToningHighlightSaturation | 0 |
SplitToningShadowHue | 0 |
SplitToningShadowSaturation | 0 |
SubjectDistanceRange | Unknown |
Tint | 0 |
ToneCurveName2012 | Medium Contrast |
ToneCurvePV2012 | 0, 0, 32, 22, 64, 56, 128, 128, 192, 196, 255, 255 |
ToneCurvePV2012Blue | 0, 0, 255, 255 |
ToneCurvePV2012Green | 0, 0, 255, 255 |
ToneCurvePV2012Red | 0, 0, 255, 255 |
Version | 8.3 |
VignetteAmount | 0 |
WhiteBalance (1) | As Shot |
WhiteBalance | Auto |
Whites2012 | +26 |