Felt | Verdi |
AlreadyApplied | True |
Aperture | 18.0 |
ApertureValue | 18.0 |
ApproximateFocusDistance | 181 |
AutoLateralCA | 1 |
AutoWhiteVersion | 134348800 |
BitsPerSample | 8 |
Blacks2012 | +12 |
BlueHue | 0 |
BlueSaturation | 0 |
CameraProfile | Adobe Standard |
CircleOfConfusion | 0.027 mm |
Clarity2012 | +7 |
ColorComponents | 3 |
ColorNoiseReduction | 45 |
ColorNoiseReductionDetail | 50 |
ColorNoiseReductionSmoothness | 50 |
ColorSpace | sRGB |
ColorTemperature | 5800 |
ColorTransform | YCbCr |
Contrast2012 | +5 |
ConvertToGrayscale | False |
CreateDate (1) | 2017:11:20 15:37:45.36 |
CreateDate | 2017:11:20 15:37:45 |
CreatorTool | Adobe Photoshop Lightroom 6.12 (Macintosh) |
CropAngle | 0 |
CropBottom | 0.970524 |
CropConstrainToWarp | 0 |
CropLeft | 0 |
CropRight | 0.987218 |
CropTop | 0 |
CustomRendered | Normal |
DateCreated (1) | 2017:11:20 |
DateCreated | 2017:11:20 15:37:45.36 |
DateTimeOriginal | 2017:11:20 15:37:45 |
DefringeGreenAmount | 0 |
DefringeGreenHueHi | 60 |
DefringeGreenHueLo | 40 |
DefringePurpleAmount | 0 |
DefringePurpleHueHi | 70 |
DefringePurpleHueLo | 30 |
Dehaze | 0 |
DistortionCorrectionAlreadyApplied | True |
DOF | inf (1.58 m - inf) |
Exposure2012 | -0.55 |
ExposureCompensation | 0 |
ExposureMode | Manual |
ExposureProgram | Manual |
ExposureTime | 1/40 |
Firmware | 1.1.6 |
Flash | Off, Did not fire |
FlashCompensation | 0 |
FNumber | 18.0 |
FocalLength | 28.0 mm |
FocalLength35efl | 28.0 mm (35 mm equivalent: 30.8 mm) |
Format | image/jpeg |
FOV | 60.6 deg |
GrainAmount | 0 |
GreenHue | 0 |
GreenSaturation | 0 |
HasCrop | True |
HasExtendedXMP | 3CAE378764716876EDF39702066925A3 |
HasSettings | True |
Highlights2012 | -26 |
HueAdjustmentAqua | 0 |
HueAdjustmentBlue | 0 |
HueAdjustmentGreen | 0 |
HueAdjustmentMagenta | 0 |
HueAdjustmentOrange | 0 |
HueAdjustmentPurple | 0 |
HueAdjustmentRed | 0 |
HueAdjustmentYellow | 0 |
HyperfocalDistance | 1.59 m |
ImageHeight | 3277 |
ImageNumber | 0 |
ImageSize | 5000x3277 |
ImageWidth | 5000 |
ISO | 100 |
LateralChromaticAberrationCorrectionAlreadyApplied | True |
Lens | EF24-70mm f/2.8L II USM |
LensID (1) | 495 |
LensID | Canon EF 24-70mm f/2.8L II USM |
LensInfo | 24-70mm f/? |
LensManualDistortionAmount | 0 |
LensModel | EF24-70mm f/2.8L II USM |
LensProfileChromaticAberrationScale | 100 |
LensProfileDistortionScale | 100 |
LensProfileEnable | 1 |
LensProfileFilename | Canon EOS 5D Mark II (Canon EF 24-70mm f2.8 L II USM) - RAW.lcp |
LensProfileName | Adobe (Canon EF 24-70mm f/2.8 L II USM) |
LensProfileSetup | LensDefaults |
LensProfileVignettingScale | 100 |
LensSerialNumber | 3630000901 |
LightValue | 13.7 |
LuminanceAdjustmentAqua | 0 |
LuminanceAdjustmentBlue | +33 |
LuminanceAdjustmentGreen | 0 |
LuminanceAdjustmentMagenta | 0 |
LuminanceAdjustmentOrange | -2 |
LuminanceAdjustmentPurple | +11 |
LuminanceAdjustmentRed | 0 |
LuminanceAdjustmentYellow | -16 |
LuminanceNoiseReductionContrast | 47 |
LuminanceNoiseReductionDetail | 50 |
LuminanceSmoothing | 39 |
Make | Canon |
MaxApertureValue | 2.8 |
Megapixels | 16.4 |
MeteringMode | Multi-segment |
Model | Canon EOS 6D |
ModifyDate (1) | 2017:11:23 17:45:24+01:00 |
ModifyDate | 2017:11:23 17:45:24 |
PaintCorrectionActive | true |
PaintCorrectionAmount | 1.000000 |
PaintCorrectionBrightness | 0.000000 |
PaintCorrectionClarity2012 (2) | 0.080850 |
PaintCorrectionClarity2012 (3) | 0.142533 |
PaintCorrectionClarity2012 | 0.123092 |
PaintCorrectionContrast2012 (2) | 0.050000 |
PaintCorrectionContrast2012 | 0.068586 |
PaintCorrectionDefringe | 0.000000 |
PaintCorrectionExposure2012 (2) | 0.038790 |
PaintCorrectionExposure2012 (3) | 0.107376 |
PaintCorrectionExposure2012 (4) | -0.028706 |
PaintCorrectionExposure2012 | 0.041152 |
PaintCorrectionHighlights2012 (1) | 0.070000 |
PaintCorrectionHighlights2012 (2) | 0.086483 |
PaintCorrectionHighlights2012 (3) | 0.102743 |
PaintCorrectionHighlights2012 (4) | 0.053416 |
PaintCorrectionHighlights2012 | 0.106922 |
PaintCorrectionHue (1) | 39.410198 |
PaintCorrectionHue | 230.000000 |
PaintCorrectionLocalBlacks2012 (1) | 0.104197 |
PaintCorrectionLocalBlacks2012 (2) | 0.106831 |
PaintCorrectionLocalBlacks2012 | 0.000000 |
PaintCorrectionLocalDehaze | 0.000000 |
PaintCorrectionLocalWhites2012 | 0.054869 |
PaintCorrectionLuminanceNoise | 0.101926 |
PaintCorrectionMaskCenterWeight | 0.207403 |
PaintCorrectionMaskFlow | 1.000000 |
PaintCorrectionMaskRadius (1) | 0.067003 |
PaintCorrectionMaskRadius (10) | 0.010928 |
PaintCorrectionMaskRadius (11) | 0.005379 |
PaintCorrectionMaskRadius (12) | 0.005392 |
PaintCorrectionMaskRadius (13) | 0.005397 |
PaintCorrectionMaskRadius (14) | 0.005422 |
PaintCorrectionMaskRadius (15) | 0.005432 |
PaintCorrectionMaskRadius (16) | 0.005423 |
PaintCorrectionMaskRadius (17) | 0.005455 |
PaintCorrectionMaskRadius (18) | 0.005428 |
PaintCorrectionMaskRadius (19) | 0.015257 |
PaintCorrectionMaskRadius (2) | 0.067965 |
PaintCorrectionMaskRadius (20) | 0.015064 |
PaintCorrectionMaskRadius (21) | 0.014980 |
PaintCorrectionMaskRadius (22) | 0.015146 |
PaintCorrectionMaskRadius (23) | 0.015235 |
PaintCorrectionMaskRadius (24) | 0.014825 |
PaintCorrectionMaskRadius (25) | 0.015254 |
PaintCorrectionMaskRadius (26) | 0.015238 |
PaintCorrectionMaskRadius (27) | 0.015063 |
PaintCorrectionMaskRadius (28) | 0.014848 |
PaintCorrectionMaskRadius (29) | 0.014842 |
PaintCorrectionMaskRadius (3) | 0.068253 |
PaintCorrectionMaskRadius (30) | 0.070564 |
PaintCorrectionMaskRadius (31) | 0.071731 |
PaintCorrectionMaskRadius (32) | 0.019911 |
PaintCorrectionMaskRadius (33) | 0.019565 |
PaintCorrectionMaskRadius (34) | 0.019815 |
PaintCorrectionMaskRadius (35) | 0.019667 |
PaintCorrectionMaskRadius (36) | 0.019412 |
PaintCorrectionMaskRadius (4) | 0.018668 |
PaintCorrectionMaskRadius (5) | 0.011797 |
PaintCorrectionMaskRadius (6) | 0.011756 |
PaintCorrectionMaskRadius (7) | 0.033907 |
PaintCorrectionMaskRadius (8) | 0.010920 |
PaintCorrectionMaskRadius (9) | 0.010934 |
PaintCorrectionMaskRadius | 0.019520 |
PaintCorrectionMaskValue | 1.000000 |
PaintCorrectionMaskWhat | Mask/Paint |
PaintCorrectionMoire | 0.000000 |
PaintCorrectionSaturation (1) | 0.054778 |
PaintCorrectionSaturation (5) | 0.053870 |
PaintCorrectionSaturation (7) | 0.092115 |
PaintCorrectionSaturation | 0.000000 |
PaintCorrectionShadows2012 (2) | 0.112827 |
PaintCorrectionShadows2012 (3) | 0.120004 |
PaintCorrectionShadows2012 | 0.000000 |
PaintCorrectionSharpness (1) | 0.080759 |
PaintCorrectionSharpness (3) | 0.142805 |
PaintCorrectionSharpness | 0.000000 |
PaintCorrectionTemperature | 0.000000 |
PaintCorrectionTint | 0.000000 |
PaintCorrectionWhat | Correction |
ParametricDarks | 0 |
ParametricHighlights | 0 |
ParametricHighlightSplit | 75 |
ParametricLights | 0 |
ParametricMidtoneSplit | 50 |
ParametricShadows | 0 |
ParametricShadowSplit | 25 |
PerspectiveAspect | 0 |
PerspectiveHorizontal | 0 |
PerspectiveRotate | 0.0 |
PerspectiveScale | 100 |
PerspectiveUpright | 1 |
PerspectiveVertical | 0 |
PerspectiveX | 0.00 |
PerspectiveY | 0.00 |
PostCropVignetteAmount | 0 |
ProcessVersion | 6.7 |
ProfileDescription | sRGB IEC61966-2.1 |
RecommendedExposureIndex | 100 |
RedHue | 0 |
RedSaturation | 0 |
Saturation | +7 |
SaturationAdjustmentAqua | 0 |
SaturationAdjustmentBlue | -7 |
SaturationAdjustmentGreen | 0 |
SaturationAdjustmentMagenta | 0 |
SaturationAdjustmentOrange | +11 |
SaturationAdjustmentPurple | +4 |
SaturationAdjustmentRed | 0 |
SaturationAdjustmentYellow | +11 |
ScaleFactor35efl | 1.1 |
SceneCaptureType | Standard |
SensitivityType | Recommended Exposure Index |
SerialNumber | 373051003880 |
Shadows2012 | +4 |
ShadowTint | 0 |
SharpenDetail | 46 |
SharpenEdgeMasking | 0 |
SharpenRadius | +1.0 |
Sharpness | 101 |
ShutterSpeed | 1/40 |
ShutterSpeedValue | 1/40 |
Software | Adobe Photoshop Lightroom 6.12 (Macintosh) |
SplitToningBalance | 0 |
SplitToningHighlightHue | 37 |
SplitToningHighlightSaturation | 0 |
SplitToningShadowHue | 0 |
SplitToningShadowSaturation | 0 |
Tint | +14 |
ToneCurve | 0, 0, 255, 255 |
ToneCurveBlue | 0, 0, 255, 255 |
ToneCurveGreen | 0, 0, 255, 255 |
ToneCurveName | Linear |
ToneCurveName2012 | Custom |
ToneCurvePV2012 | 0, 0, 77, 78, 131, 138, 193, 191, 255, 255 |
ToneCurvePV2012Blue | 0, 0, 255, 255 |
ToneCurvePV2012Green | 0, 0, 255, 255 |
ToneCurvePV2012Red | 0, 0, 255, 255 |
ToneCurveRed | 0, 0, 255, 255 |
ToneMapStrength | 0 |
Version | 9.12 |
Vibrance | +7 |
VignetteAmount | 0 |
VignetteCorrectionAlreadyApplied | True |
WhiteBalance (1) | Custom |
WhiteBalance | Auto |
Whites2012 | +15 |