Felt | Verdi |
AlreadyApplied | True |
Aperture | 13.0 |
ApertureValue | 13.0 |
BitsPerSample | 8 |
BlueHue | 0 |
BlueSaturation | 0 |
Brightness | +39 |
CameraProfile | Adobe Standard |
ChromaticAberrationB | 0 |
ChromaticAberrationR | 0 |
CircleOfConfusion | 0.030 mm |
Clarity | +80 |
ColorComponents | 3 |
ColorMode | RGB |
ColorNoiseReduction | 25 |
ColorNoiseReductionDetail | 50 |
ColorSpace | Uncalibrated |
ColorTemperature | 6950 |
ColorTransform | YCbCr |
Contrast | +96 |
ConvertToGrayscale | False |
CreateDate (1) | 2014:04:13 12:09:19+02:00 |
CreateDate | 2014:04:13 12:09:19 |
CropAngle | 0 |
CropBottom | 0.883761 |
CropLeft | 0.079818 |
CropRight | 1 |
CropTop | 0 |
CustomRendered | Normal |
DateCreated (1) | 2014:04:13 |
DateCreated | 2014:04:13 12:09:19 |
DateTimeOriginal | 2014:04:13 12:09:19 |
Defringe | 0 |
ExifImageHeight | 2574 |
ExifImageWidth | 4019 |
Exposure | -0.35 |
ExposureCompensation | -1/3 |
ExposureMode | Auto |
ExposureProgram | Program AE |
ExposureTime | 1/320 |
FillLight | 56 |
Firmware | 1.1.1 |
Flash | Off, Did not fire |
FlashCompensation | 0 |
FNumber | 13.0 |
FocalLength | 28.0 mm |
FocalLength35efl | 28.0 mm (35 mm equivalent: 28.1 mm) |
Format | image/jpeg |
FOV | 65.4 deg |
GradientBasedCorrActive | true |
GradientBasedCorrAmount | 1.000000 |
GradientBasedCorrBrightness | -0.170000 |
GradientBasedCorrClarity | 1.000000 |
GradientBasedCorrContrast (1) | -0.320000 |
GradientBasedCorrContrast | -0.100000 |
GradientBasedCorrExposure (1) | -0.337500 |
GradientBasedCorrExposure | -0.262500 |
GradientBasedCorrHue | 0.000000 |
GradientBasedCorrMaskFullX (1) | 0.528934 |
GradientBasedCorrMaskFullX | 0.523688 |
GradientBasedCorrMaskFullY (1) | 0.000000 |
GradientBasedCorrMaskFullY | 0.885501 |
GradientBasedCorrMaskValue | 1.000000 |
GradientBasedCorrMaskWhat | Mask/Gradient |
GradientBasedCorrMaskZeroX (1) | 0.531032 |
GradientBasedCorrMaskZeroX | 0.523688 |
GradientBasedCorrMaskZeroY (1) | 0.717209 |
GradientBasedCorrMaskZeroY | 0.696762 |
GradientBasedCorrSaturation (1) | -0.070000 |
GradientBasedCorrSaturation | 0.000000 |
GradientBasedCorrSharpness | 1.000000 |
GradientBasedCorrWhat | Correction |
GrainAmount | 0 |
GreenHue | 0 |
GreenSaturation | 0 |
HasCrop | True |
HasSettings | True |
HighlightRecovery | 100 |
HueAdjustmentAqua | 0 |
HueAdjustmentBlue | 0 |
HueAdjustmentGreen | 0 |
HueAdjustmentMagenta | 0 |
HueAdjustmentOrange | 0 |
HueAdjustmentPurple | 0 |
HueAdjustmentRed | 0 |
HueAdjustmentYellow | 0 |
HyperfocalDistance | 2.01 m |
ICCProfileName | Adobe RGB (1998) |
ImageHeight | 2574 |
ImageNumber | 28 |
ImageSize | 4019x2574 |
ImageWidth | 4019 |
ISO | 160 |
Lens | EF17-40mm f/4L USM |
LensID (1) | 231 |
LensID | Canon EF 17-40mm f/4L USM |
LensInfo | 17-40mm f/? |
LightValue | 15.0 |
LuminanceAdjustmentAqua | 0 |
LuminanceAdjustmentBlue | 0 |
LuminanceAdjustmentGreen | 0 |
LuminanceAdjustmentMagenta | 0 |
LuminanceAdjustmentOrange | 0 |
LuminanceAdjustmentPurple | 0 |
LuminanceAdjustmentRed | 0 |
LuminanceAdjustmentYellow | 0 |
LuminanceSmoothing | 0 |
Make | Canon |
MaxApertureValue | 4.0 |
Megapixels | 10.3 |
MeteringMode | Spot |
Model | Canon EOS 5D |
ModifyDate (1) | 2014:04:21 23:28:33+02:00 |
ModifyDate | 2014:04:21 23:28:33 |
Orientation | Horizontal (normal) |
ParametricDarks | -12 |
ParametricHighlights | +7 |
ParametricHighlightSplit | 75 |
ParametricLights | +27 |
ParametricMidtoneSplit | 50 |
ParametricShadows | -58 |
ParametricShadowSplit | 25 |
PostCropVignetteAmount | 0 |
ProcessVersion | 5.7 |
ProfileDescription | Adobe RGB (1998) |
Rating | 0 |
RawFileName | IMG_7407.CR2 |
RedHue | 0 |
RedSaturation | 0 |
Saturation | -39 |
SaturationAdjustmentAqua | 0 |
SaturationAdjustmentBlue | 0 |
SaturationAdjustmentGreen | 0 |
SaturationAdjustmentMagenta | 0 |
SaturationAdjustmentOrange | 0 |
SaturationAdjustmentPurple | 0 |
SaturationAdjustmentRed | 0 |
SaturationAdjustmentYellow | 0 |
ScaleFactor35efl | 1.0 |
SceneCaptureType | Standard |
SerialNumber | 1430906675 |
Shadows | 5 |
ShadowTint | 0 |
SharpenDetail | 25 |
SharpenEdgeMasking | 0 |
SharpenRadius | +1.0 |
Sharpness | 25 |
ShutterSpeed | 1/320 |
ShutterSpeedValue | 1/320 |
SidecarForExtension | CR2 |
Software | Adobe Photoshop CS5 Windows |
SplitToningBalance | 0 |
SplitToningHighlightHue | 0 |
SplitToningHighlightSaturation | 0 |
SplitToningShadowHue | 0 |
SplitToningShadowSaturation | 0 |
Tint | +2 |
ToneCurve | 0, 0, 32, 22, 64, 56, 128, 128, 192, 196, 255, 255 |
ToneCurveName | Medium Contrast |
URL_List | |
Version | 6.0 |
Vibrance | +20 |
VignetteAmount | 0 |
WhiteBalance (1) | Custom |
WhiteBalance | Manual |